














BEGIN:VCALENDAR
VERSION:2.0
PRODID:-//ExpandED Schools - ECPv6.15.20//NONSGML v1.0//EN
CALSCALE:GREGORIAN
METHOD:PUBLISH
X-WR-CALNAME:ExpandED Schools
X-ORIGINAL-URL:https://www.expandedschools.org
X-WR-CALDESC:Events for ExpandED Schools
REFRESH-INTERVAL;VALUE=DURATION:PT1H
X-Robots-Tag:noindex
X-PUBLISHED-TTL:PT1H
BEGIN:VTIMEZONE
TZID:UTC
BEGIN:STANDARD
TZOFFSETFROM:+0000
TZOFFSETTO:+0000
TZNAME:UTC
DTSTART:20210101T000000
END:STANDARD
END:VTIMEZONE
BEGIN:VEVENT
DTSTART;VALUE=DATE:20220505
DTEND;VALUE=DATE:20220506
DTSTAMP:20260423T091547
CREATED:20220505T151126Z
LAST-MODIFIED:20220510T121005Z
UID:3507-1651708800-1651795199@www.expandedschools.org
SUMMARY:CareerReady SYEP Credit Pilot - The Role of the Teacher of Record
DESCRIPTION:The CareerReady Credit Pilot offers students participating in CareerReady SYEP a unique opportunity to connect their real-world work experiences with what they learn in the classroom and earn high school credit and/or WBL hours towards a CDOS pathway. This session outlined how schools can provide students participating in CareerReady SYEP high school credit and/or WBL hours towards a CDOS Pathway.
URL:https://www.expandedschools.org/event/careerready-syep-credit-pilot-the-role-of-the-teacher-of-record/
CATEGORIES:Career-Connected Learning
END:VEVENT
END:VCALENDAR