














BEGIN:VCALENDAR
VERSION:2.0
PRODID:-//ExpandED Schools - ECPv6.15.20//NONSGML v1.0//EN
CALSCALE:GREGORIAN
METHOD:PUBLISH
X-WR-CALNAME:ExpandED Schools
X-ORIGINAL-URL:https://www.expandedschools.org
X-WR-CALDESC:Events for ExpandED Schools
REFRESH-INTERVAL;VALUE=DURATION:PT1H
X-Robots-Tag:noindex
X-PUBLISHED-TTL:PT1H
BEGIN:VTIMEZONE
TZID:UTC
BEGIN:STANDARD
TZOFFSETFROM:+0000
TZOFFSETTO:+0000
TZNAME:UTC
DTSTART:20220101T000000
END:STANDARD
END:VTIMEZONE
BEGIN:VEVENT
DTSTART;VALUE=DATE:20230306
DTEND;VALUE=DATE:20230307
DTSTAMP:20260425T095415
CREATED:20221014T141345Z
LAST-MODIFIED:20221014T141345Z
UID:12037-1678060800-1678147199@www.expandedschools.org
SUMMARY:Computer Science Unplugged
DESCRIPTION:CS: Unplugged is a virtual workshop designed to explore computer science through hands-on activities that do not require computers. This workshop helps prepare computer science educators for times when access to machines is not available or to enforce a computational thinking concept. Participants will learn to facilitate activities while introducing computational concepts and vocabulary relevant for leading lessons.
URL:https://www.expandedschools.org/event/computer-science-unplugged-2/
CATEGORIES:DYCD
END:VEVENT
END:VCALENDAR