














BEGIN:VCALENDAR
VERSION:2.0
PRODID:-//ExpandED Schools - ECPv6.15.20//NONSGML v1.0//EN
CALSCALE:GREGORIAN
METHOD:PUBLISH
X-WR-CALNAME:ExpandED Schools
X-ORIGINAL-URL:https://www.expandedschools.org
X-WR-CALDESC:Events for ExpandED Schools
REFRESH-INTERVAL;VALUE=DURATION:PT1H
X-Robots-Tag:noindex
X-PUBLISHED-TTL:PT1H
BEGIN:VTIMEZONE
TZID:UTC
BEGIN:STANDARD
TZOFFSETFROM:+0000
TZOFFSETTO:+0000
TZNAME:UTC
DTSTART:20220101T000000
END:STANDARD
END:VTIMEZONE
BEGIN:VEVENT
DTSTART;VALUE=DATE:20230516
DTEND;VALUE=DATE:20230517
DTSTAMP:20260421T172023
CREATED:20230508T131710Z
LAST-MODIFIED:20230508T131710Z
UID:17768-1684195200-1684281599@www.expandedschools.org
SUMMARY:MS ExTRA Literacy Educators PD Session 6: Discussion and Planning of Group Capstone Projects
DESCRIPTION:Facilitators: Alex De La Cruz and Noel Morales \nIn this workshop\, we will review the work and content that has been discussed within the previous workshops\, highlighting key concepts that will support the creation of capstone projects. The goal of capstone projects is to showcase and apply the literacy work\, skills and takeaways culminated from this series taking ideas from concepts to implementation.  \nLiteracy Educators will create their capstone project under the theme\, “Characterization.” They  will be introduced to the requirements of the capstone project and will begin planning their work in small groups for their final presentation on June 13\, 2023\, around the given theme. Educators will walk away with an informed way of instruction and support their students in producing project-based learning in book clubs.
URL:https://www.expandedschools.org/event/pd6/
CATEGORIES:LIT C.R.E.W.
END:VEVENT
END:VCALENDAR