














BEGIN:VCALENDAR
VERSION:2.0
PRODID:-//ExpandED Schools - ECPv6.15.20//NONSGML v1.0//EN
CALSCALE:GREGORIAN
METHOD:PUBLISH
X-WR-CALNAME:ExpandED Schools
X-ORIGINAL-URL:https://www.expandedschools.org
X-WR-CALDESC:Events for ExpandED Schools
REFRESH-INTERVAL;VALUE=DURATION:PT1H
X-Robots-Tag:noindex
X-PUBLISHED-TTL:PT1H
BEGIN:VTIMEZONE
TZID:UTC
BEGIN:STANDARD
TZOFFSETFROM:+0000
TZOFFSETTO:+0000
TZNAME:UTC
DTSTART:20210101T000000
END:STANDARD
END:VTIMEZONE
BEGIN:VEVENT
DTSTART;VALUE=DATE:20221018
DTEND;VALUE=DATE:20221019
DTSTAMP:20260423T085709
CREATED:20221003T062949Z
LAST-MODIFIED:20221017T165651Z
UID:11332-1666051200-1666137599@www.expandedschools.org
SUMMARY:CORE PD Relationship Building with Youth
DESCRIPTION:The number\, consistency\, and intensity of positive relationships in young people’s lives are linked with a range of positive academic\, social\, and emotional outcomes. This workshop will evaluate the factors that lead to and best practices for nurturing sustainable\, positive relationships with students and explore how communication directly affects student behavior. Attendees will also explore the skills and strategies that can help you better communicate and get through to your students. We will present tools and techniques to positively redirect negative behavior and will provide opportunities to practice reframing our language to be more impactful and effective. \nSchool-Age Child Care training regulations satisfied: 3 \nLocation: Remote. A link to the training will be sent by email a day prior to the session.
URL:https://www.expandedschools.org/event/relationship-building-with-youth-2/
CATEGORIES:Program-support
END:VEVENT
END:VCALENDAR