














BEGIN:VCALENDAR
VERSION:2.0
PRODID:-//ExpandED Schools - ECPv6.15.20//NONSGML v1.0//EN
CALSCALE:GREGORIAN
METHOD:PUBLISH
X-WR-CALNAME:ExpandED Schools
X-ORIGINAL-URL:https://www.expandedschools.org
X-WR-CALDESC:Events for ExpandED Schools
REFRESH-INTERVAL;VALUE=DURATION:PT1H
X-Robots-Tag:noindex
X-PUBLISHED-TTL:PT1H
BEGIN:VTIMEZONE
TZID:UTC
BEGIN:STANDARD
TZOFFSETFROM:+0000
TZOFFSETTO:+0000
TZNAME:UTC
DTSTART:20220101T000000
END:STANDARD
END:VTIMEZONE
BEGIN:VEVENT
DTSTART;VALUE=DATE:20230417
DTEND;VALUE=DATE:20230418
DTSTAMP:20260422T081036
CREATED:20221014T142650Z
LAST-MODIFIED:20221014T142650Z
UID:12073-1681689600-1681775999@www.expandedschools.org
SUMMARY:Summer Outdoor STEM Activities
DESCRIPTION:This is session will provide summer staff with lessons\, resources and creative ideas for summer STEM activities that can be done outdoors. Think water rockets and solar cars…and fun!
URL:https://www.expandedschools.org/event/summer-outdoor-stem-activities/
CATEGORIES:DYCD
END:VEVENT
END:VCALENDAR