














BEGIN:VCALENDAR
VERSION:2.0
PRODID:-//ExpandED Schools - ECPv6.15.20//NONSGML v1.0//EN
CALSCALE:GREGORIAN
METHOD:PUBLISH
X-ORIGINAL-URL:https://www.expandedschools.org
X-WR-CALDESC:Events for ExpandED Schools
REFRESH-INTERVAL;VALUE=DURATION:PT1H
X-Robots-Tag:noindex
X-PUBLISHED-TTL:PT1H
BEGIN:VTIMEZONE
TZID:America/New_York
BEGIN:DAYLIGHT
TZOFFSETFROM:-0500
TZOFFSETTO:-0400
TZNAME:EDT
DTSTART:20230312T070000
END:DAYLIGHT
BEGIN:STANDARD
TZOFFSETFROM:-0400
TZOFFSETTO:-0500
TZNAME:EST
DTSTART:20231105T060000
END:STANDARD
BEGIN:DAYLIGHT
TZOFFSETFROM:-0500
TZOFFSETTO:-0400
TZNAME:EDT
DTSTART:20240310T070000
END:DAYLIGHT
BEGIN:STANDARD
TZOFFSETFROM:-0400
TZOFFSETTO:-0500
TZNAME:EST
DTSTART:20241103T060000
END:STANDARD
BEGIN:DAYLIGHT
TZOFFSETFROM:-0500
TZOFFSETTO:-0400
TZNAME:EDT
DTSTART:20250309T070000
END:DAYLIGHT
BEGIN:STANDARD
TZOFFSETFROM:-0400
TZOFFSETTO:-0500
TZNAME:EST
DTSTART:20251102T060000
END:STANDARD
END:VTIMEZONE
BEGIN:VEVENT
DTSTART;TZID=America/New_York:20240514T100000
DTEND;TZID=America/New_York:20240514T113000
DTSTAMP:20260419T123732
CREATED:20231119T181059Z
LAST-MODIFIED:20240722T151336Z
UID:10000591-1715680800-1715686200@www.expandedschools.org
SUMMARY:Event with end date error Placeholder text if there is a longer title
DESCRIPTION:Representatives from local colleges\, universities\, public schools\, and charter networks will talk to participants about their programs and hiring process. Participants will network with these representatives while learning about the different types of programs offered in NYC.
URL:https://www.expandedschools.org/event/educator-career-connections-networking-event-old/
CATEGORIES:DYCD
END:VEVENT
END:VCALENDAR