














BEGIN:VCALENDAR
VERSION:2.0
PRODID:-//ExpandED Schools - ECPv6.15.20//NONSGML v1.0//EN
CALSCALE:GREGORIAN
METHOD:PUBLISH
X-ORIGINAL-URL:https://www.expandedschools.org
X-WR-CALDESC:Events for ExpandED Schools
REFRESH-INTERVAL;VALUE=DURATION:PT1H
X-Robots-Tag:noindex
X-PUBLISHED-TTL:PT1H
BEGIN:VTIMEZONE
TZID:UTC
BEGIN:STANDARD
TZOFFSETFROM:+0000
TZOFFSETTO:+0000
TZNAME:UTC
DTSTART:20220101T000000
END:STANDARD
END:VTIMEZONE
BEGIN:VEVENT
DTSTART;VALUE=DATE:20230217
DTEND;VALUE=DATE:20230218
DTSTAMP:20260423T074909
CREATED:20230105T203345Z
LAST-MODIFIED:20230130T145953Z
UID:10000457-1676592000-1676678399@www.expandedschools.org
SUMMARY:Pathways Working Group Meeting Winter 2023
DESCRIPTION:ExpandED Schools has invested in diversifying the teacher pipeline through its Pathways Fellowship and other workforce development initiatives. While specifics of the network are still evolving\, we believe that within this community there is an interest in building the teacher pipeline. This group will allow stakeholders to engage in dynamic and evolving conversations on this topic that will lead to network connections and problem-solving.   \nThe overall objectives of this group are:  \n\nto create a network of organizations that are involved in the teacher pipeline\nto connect these organizations so that students receive resources and support throughout their career journey\nto address barriers to entry and retention for BIPOC educators\n\nThis is a virtual event held on Zoom. The Zoom link will be available to you through email and on this page after you register.
URL:https://www.expandedschools.org/event/pathways-working-group-meeting-winter-2023/
CATEGORIES:Educator Career Development
END:VEVENT
BEGIN:VEVENT
DTSTART;VALUE=DATE:20230220
DTEND;VALUE=DATE:20230221
DTSTAMP:20260423T074909
CREATED:20230124T173958Z
LAST-MODIFIED:20230124T173958Z
UID:10000469-1676851200-1676937599@www.expandedschools.org
SUMMARY:Pathways Fellowship - Self and Community Care for Youth Workers
DESCRIPTION:Attendees will learn the importance of self-care for people who serve others. Being well and full is a necessity\, especially when engaging in positive youth development. The practice of care can extend to the communities you serve. This session will define what is meant by self- and community- care and give strategies to use to balance life and work responsibilities.
URL:https://www.expandedschools.org/event/pathways-fellowship-self-and-community-care-for-youth-workers/
LOCATION:NY\, United States
CATEGORIES:Educator Career Development
END:VEVENT
BEGIN:VEVENT
DTSTART;VALUE=DATE:20230220
DTEND;VALUE=DATE:20230221
DTSTAMP:20260423T074909
CREATED:20230124T211330Z
LAST-MODIFIED:20230124T211330Z
UID:10000390-1676851200-1676937599@www.expandedschools.org
SUMMARY:Pathways Fellowship - Having Difficult Conversations with Youth
DESCRIPTION:Young people need adults to care for them and give them solid information about navigating the joys and sorrows of life. In this session\, fellows will learn how to handle conversations with young people that may be difficult or challenging. Tools and strategies will be shared.
URL:https://www.expandedschools.org/event/pathways-fellowship-having-difficult-conversations-with-youth/
CATEGORIES:Educator Career Development
END:VEVENT
END:VCALENDAR