














BEGIN:VCALENDAR
VERSION:2.0
PRODID:-//ExpandED Schools - ECPv6.15.20//NONSGML v1.0//EN
CALSCALE:GREGORIAN
METHOD:PUBLISH
X-WR-CALNAME:ExpandED Schools
X-ORIGINAL-URL:https://www.expandedschools.org
X-WR-CALDESC:Events for ExpandED Schools
REFRESH-INTERVAL;VALUE=DURATION:PT1H
X-Robots-Tag:noindex
X-PUBLISHED-TTL:PT1H
BEGIN:VTIMEZONE
TZID:UTC
BEGIN:STANDARD
TZOFFSETFROM:+0000
TZOFFSETTO:+0000
TZNAME:UTC
DTSTART:20210101T000000
END:STANDARD
END:VTIMEZONE
BEGIN:VEVENT
DTSTART;VALUE=DATE:20221206
DTEND;VALUE=DATE:20221207
DTSTAMP:20260423T165757
CREATED:20221013T001358Z
LAST-MODIFIED:20221024T153540Z
UID:10000419-1670284800-1670371199@www.expandedschools.org
SUMMARY:Introduction to Afterschool STEM
DESCRIPTION:Pathways Fellows will learn the various ways Science\, Technology\, Engineering\, and Math (STEM) are incorporated into afterschool activities. The elements of STEM instruction and planning lessons will also be covered. \nThis is a virtual event held on Zoom. The Zoom link will be available to you through email and on this page after you register.
URL:https://www.expandedschools.org/event/introduction-to-afterschool-stem/
CATEGORIES:Educator Career Development
END:VEVENT
BEGIN:VEVENT
DTSTART;VALUE=DATE:20221206
DTEND;VALUE=DATE:20221207
DTSTAMP:20260423T165757
CREATED:20221013T002012Z
LAST-MODIFIED:20221130T152039Z
UID:10000420-1670284800-1670371199@www.expandedschools.org
SUMMARY:Preparing for the Demo Lesson & Incorporating Feedback
DESCRIPTION:Acing a demo lesson is key to acquiring a teaching position. Explore Schools’ Managing Director of Talent\, Rachel Modica-Russell\, will discuss the hiring process and what she looks for in a successful demo lesson. \nThis is a virtual event held on Zoom. The Zoom link will be available to you through email and on this page after you register.
URL:https://www.expandedschools.org/event/preparing-for-the-demo-lesson-incorporating-feedback/
CATEGORIES:Educator Career Development
END:VEVENT
END:VCALENDAR