














BEGIN:VCALENDAR
VERSION:2.0
PRODID:-//ExpandED Schools - ECPv6.15.20//NONSGML v1.0//EN
CALSCALE:GREGORIAN
METHOD:PUBLISH
X-WR-CALNAME:ExpandED Schools
X-ORIGINAL-URL:https://www.expandedschools.org
X-WR-CALDESC:Events for ExpandED Schools
REFRESH-INTERVAL;VALUE=DURATION:PT1H
X-Robots-Tag:noindex
X-PUBLISHED-TTL:PT1H
BEGIN:VTIMEZONE
TZID:UTC
BEGIN:STANDARD
TZOFFSETFROM:+0000
TZOFFSETTO:+0000
TZNAME:UTC
DTSTART:20220101T000000
END:STANDARD
END:VTIMEZONE
BEGIN:VEVENT
DTSTART;VALUE=DATE:20230318
DTEND;VALUE=DATE:20230319
DTSTAMP:20260419T121640
CREATED:20230124T212116Z
LAST-MODIFIED:20230321T145728Z
UID:10000391-1679097600-1679183999@www.expandedschools.org
SUMMARY:Pathways Fellowship - Trauma-Informed and Healing Centered Practice
DESCRIPTION:Attendees will learn the effects of trauma on youth and youth development workers. Strategies for integrating healing practices into youth development work will be offered.
URL:https://www.expandedschools.org/event/pathways-fellowship-trauma-informed-and-healing-centered-practice/
LOCATION:NY\, United States
CATEGORIES:Educator Career Development
END:VEVENT
END:VCALENDAR