














BEGIN:VCALENDAR
VERSION:2.0
PRODID:-//ExpandED Schools - ECPv6.15.20//NONSGML v1.0//EN
CALSCALE:GREGORIAN
METHOD:PUBLISH
X-ORIGINAL-URL:https://www.expandedschools.org
X-WR-CALDESC:Events for ExpandED Schools
REFRESH-INTERVAL;VALUE=DURATION:PT1H
X-Robots-Tag:noindex
X-PUBLISHED-TTL:PT1H
BEGIN:VTIMEZONE
TZID:America/New_York
BEGIN:DAYLIGHT
TZOFFSETFROM:-0500
TZOFFSETTO:-0400
TZNAME:EDT
DTSTART:20240310T070000
END:DAYLIGHT
BEGIN:STANDARD
TZOFFSETFROM:-0400
TZOFFSETTO:-0500
TZNAME:EST
DTSTART:20241103T060000
END:STANDARD
BEGIN:DAYLIGHT
TZOFFSETFROM:-0500
TZOFFSETTO:-0400
TZNAME:EDT
DTSTART:20250309T070000
END:DAYLIGHT
BEGIN:STANDARD
TZOFFSETFROM:-0400
TZOFFSETTO:-0500
TZNAME:EST
DTSTART:20251102T060000
END:STANDARD
BEGIN:DAYLIGHT
TZOFFSETFROM:-0500
TZOFFSETTO:-0400
TZNAME:EDT
DTSTART:20260308T070000
END:DAYLIGHT
BEGIN:STANDARD
TZOFFSETFROM:-0400
TZOFFSETTO:-0500
TZNAME:EST
DTSTART:20261101T060000
END:STANDARD
END:VTIMEZONE
BEGIN:VEVENT
DTSTART;TZID=America/New_York:20250606T100000
DTEND;TZID=America/New_York:20250606T153000
DTSTAMP:20260423T074202
CREATED:20250428T201455Z
LAST-MODIFIED:20250428T201455Z
UID:10001260-1749204000-1749223800@www.expandedschools.org
SUMMARY:LIT C.R.E.W. Live Projects Awards
DESCRIPTION:The Lit C.R.E.W. Live Project Awards!\nWhere creativity meets celebration and our students take the center stage! \nAfter a year of imagination\, collaboration\, and unstoppable creativity\, it’s time to shine a spotlight on the incredible journeys our students have taken through Literacy with the Live Projects. From building worlds inspired by books to solving real-life challenges through storytelling and research\, project-based learning. These young minds have brought their learning to life in ways that wow\, inspire\, and push the limits of what literacy can be through their creativity. \nThe Live Project Awards is more than just a ceremony — it’s a high-energy showcase of student brilliance\, passion\, and growth. It’s a day to honor the process\, celebrate student voice\, and give a huge round of applause to the readers\, writers\, builders\, creatives\, and dreamers who’ve turned ideas into action. \nExpect performances.\nExpect presentations.\nExpect a lot of “Whoa\, they did that?!” moments. \nWhether they’re being recognized for Most Innovative Idea\, Best Collaboration\, or Audience Favorite\, every student leaves a winner — because they dared to create\, explore\, and grow. \nThis is not just an end-of-year event.\nThis is The Grand Finale of Creativity.\nLet the celebration begin! \nLocation: PS 89 980 Mace Avenue\, Bronx\, NY 10469
URL:https://www.expandedschools.org/event/lit-c-r-e-w-live-projects-awards/
CATEGORIES:LIT C.R.E.W.
END:VEVENT
END:VCALENDAR