














BEGIN:VCALENDAR
VERSION:2.0
PRODID:-//ExpandED Schools - ECPv6.15.20//NONSGML v1.0//EN
CALSCALE:GREGORIAN
METHOD:PUBLISH
X-WR-CALNAME:ExpandED Schools
X-ORIGINAL-URL:https://www.expandedschools.org
X-WR-CALDESC:Events for ExpandED Schools
REFRESH-INTERVAL;VALUE=DURATION:PT1H
X-Robots-Tag:noindex
X-PUBLISHED-TTL:PT1H
BEGIN:VTIMEZONE
TZID:America/New_York
BEGIN:DAYLIGHT
TZOFFSETFROM:-0500
TZOFFSETTO:-0400
TZNAME:EDT
DTSTART:20240310T070000
END:DAYLIGHT
BEGIN:STANDARD
TZOFFSETFROM:-0400
TZOFFSETTO:-0500
TZNAME:EST
DTSTART:20241103T060000
END:STANDARD
BEGIN:DAYLIGHT
TZOFFSETFROM:-0500
TZOFFSETTO:-0400
TZNAME:EDT
DTSTART:20250309T070000
END:DAYLIGHT
BEGIN:STANDARD
TZOFFSETFROM:-0400
TZOFFSETTO:-0500
TZNAME:EST
DTSTART:20251102T060000
END:STANDARD
BEGIN:DAYLIGHT
TZOFFSETFROM:-0500
TZOFFSETTO:-0400
TZNAME:EDT
DTSTART:20260308T070000
END:DAYLIGHT
BEGIN:STANDARD
TZOFFSETFROM:-0400
TZOFFSETTO:-0500
TZNAME:EST
DTSTART:20261101T060000
END:STANDARD
END:VTIMEZONE
BEGIN:VEVENT
DTSTART;TZID=America/New_York:20251104T100000
DTEND;TZID=America/New_York:20251104T130000
DTSTAMP:20260425T163023
CREATED:20250916T145551Z
LAST-MODIFIED:20251029T142549Z
UID:10001281-1762250400-1762261200@www.expandedschools.org
SUMMARY:“Set the Tone: Exploring Mood and Atmosphere with Lit C.R.E.W.”
DESCRIPTION:Join us on November 4th in person at the ExpandED Schools Office\,  218 W. 40th Street\, 12th Floor. New York\, NY 10018\, from 10:00 am -1:00 pm for a dynamic work session focused on mood. “Mood” is the feeling or atmosphere an author creates through the use of setting\, word choice\, and details. It’s what makes a story feel suspenseful\, joyful\, or eerie. When students understand mood\, they can better analyze how authors influence readers and learn to set the tone in their own writing. \nThis session will explore: \n\nVocabulary – words that convey feelings and emotions.\nBuilding Background Knowledge – linking text to music\, art\, and visuals that create atmosphere.\nSkill Building – activities that help students identify and create mood across different genres.\n\n  \n  \nPlease note: Registration will close on Thursday\, November 6th. All attendees must register.
URL:https://www.expandedschools.org/event/set-the-tone-exploring-mood-and-atmosphere-with-lit-c-r-e-w/
CATEGORIES:LIT C.R.E.W.
END:VEVENT
END:VCALENDAR