














BEGIN:VCALENDAR
VERSION:2.0
PRODID:-//ExpandED Schools - ECPv6.15.20//NONSGML v1.0//EN
CALSCALE:GREGORIAN
METHOD:PUBLISH
X-WR-CALNAME:ExpandED Schools
X-ORIGINAL-URL:https://www.expandedschools.org
X-WR-CALDESC:Events for ExpandED Schools
REFRESH-INTERVAL;VALUE=DURATION:PT1H
X-Robots-Tag:noindex
X-PUBLISHED-TTL:PT1H
BEGIN:VTIMEZONE
TZID:America/New_York
BEGIN:DAYLIGHT
TZOFFSETFROM:-0500
TZOFFSETTO:-0400
TZNAME:EDT
DTSTART:20240310T070000
END:DAYLIGHT
BEGIN:STANDARD
TZOFFSETFROM:-0400
TZOFFSETTO:-0500
TZNAME:EST
DTSTART:20241103T060000
END:STANDARD
BEGIN:DAYLIGHT
TZOFFSETFROM:-0500
TZOFFSETTO:-0400
TZNAME:EDT
DTSTART:20250309T070000
END:DAYLIGHT
BEGIN:STANDARD
TZOFFSETFROM:-0400
TZOFFSETTO:-0500
TZNAME:EST
DTSTART:20251102T060000
END:STANDARD
BEGIN:DAYLIGHT
TZOFFSETFROM:-0500
TZOFFSETTO:-0400
TZNAME:EDT
DTSTART:20260308T070000
END:DAYLIGHT
BEGIN:STANDARD
TZOFFSETFROM:-0400
TZOFFSETTO:-0500
TZNAME:EST
DTSTART:20261101T060000
END:STANDARD
END:VTIMEZONE
BEGIN:VEVENT
DTSTART;TZID=America/New_York:20250108T090000
DTEND;TZID=America/New_York:20250108T120000
DTSTAMP:20260422T054107
CREATED:20241203T030908Z
LAST-MODIFIED:20241212T163505Z
UID:10000820-1736326800-1736337600@www.expandedschools.org
SUMMARY:LIT C.R.E.W. PD Series-Repeat to Retain: Mastering Vocabulary through Repetition
DESCRIPTION:Join us for our in-person monthly Literacy Educator Workshop! \nOn Wednesday\, January 8\, 2025\, from 9:00 am-12:00 pm at \n11 W 42nd Street\, 3rd Floor; Manhattan\, NY 10036. \n  \nUnlock the secret to lasting vocabulary mastery with Repeat to Retain! This hands-on\, in-person training equips literacy educators with practical techniques to embed repetition into word usage\, ensuring students build a stronger\, more confident vocabulary. \nThrough interactive exercises\, collaborative discussions\, and fun\, immersive activities\, you’ll discover how to creatively incorporate repetition in ways that feel natural and engaging for learners. Leave with actionable strategies to reinforce word knowledge in your lessons and inspire students to use new words confidently in their reading\, writing\, and speech. \n  \nGet ready to turn repetition into a powerful teaching tool!
URL:https://www.expandedschools.org/event/lit-c-r-e-w-pd-series-repeat-to-retain-mastering-vocabulary-through-repetition/
CATEGORIES:LIT C.R.E.W.,Literacy
END:VEVENT
END:VCALENDAR