














BEGIN:VCALENDAR
VERSION:2.0
PRODID:-//ExpandED Schools - ECPv6.15.20//NONSGML v1.0//EN
CALSCALE:GREGORIAN
METHOD:PUBLISH
X-WR-CALNAME:ExpandED Schools
X-ORIGINAL-URL:https://www.expandedschools.org
X-WR-CALDESC:Events for ExpandED Schools
REFRESH-INTERVAL;VALUE=DURATION:PT1H
X-Robots-Tag:noindex
X-PUBLISHED-TTL:PT1H
BEGIN:VTIMEZONE
TZID:America/New_York
BEGIN:DAYLIGHT
TZOFFSETFROM:-0500
TZOFFSETTO:-0400
TZNAME:EDT
DTSTART:20240310T070000
END:DAYLIGHT
BEGIN:STANDARD
TZOFFSETFROM:-0400
TZOFFSETTO:-0500
TZNAME:EST
DTSTART:20241103T060000
END:STANDARD
BEGIN:DAYLIGHT
TZOFFSETFROM:-0500
TZOFFSETTO:-0400
TZNAME:EDT
DTSTART:20250309T070000
END:DAYLIGHT
BEGIN:STANDARD
TZOFFSETFROM:-0400
TZOFFSETTO:-0500
TZNAME:EST
DTSTART:20251102T060000
END:STANDARD
BEGIN:DAYLIGHT
TZOFFSETFROM:-0500
TZOFFSETTO:-0400
TZNAME:EDT
DTSTART:20260308T070000
END:DAYLIGHT
BEGIN:STANDARD
TZOFFSETFROM:-0400
TZOFFSETTO:-0500
TZNAME:EST
DTSTART:20261101T060000
END:STANDARD
END:VTIMEZONE
BEGIN:VEVENT
DTSTART;TZID=America/New_York:20250826T090000
DTEND;TZID=America/New_York:20250826T140000
DTSTAMP:20260423T165834
CREATED:20250818T155045Z
LAST-MODIFIED:20250825T151757Z
UID:10001272-1756198800-1756216800@www.expandedschools.org
SUMMARY:Lit C.R.E.W. Launch: Building Literacy Through Creativity
DESCRIPTION:Dear Literacy Educators & CBO Partners\, \nWe are excited to welcome you to the Lit C.R.E.W. Launch for FY 26: Building Literacy Through Creativity\, a three-day professional learning and collaboration experience designed for Literacy Educators. Over three engaging days\, participants will explore the foundations of the Lit C.R.E.W. model\, strengthen their understanding of literacy in the afterschool sector\, and gain hands-on strategies to bring impactful programming to students. \n  \nThe first day of the professional development will be virtual on Monday\, August 25th.\n\nIn-Person Training Tuesday\, August 26th & Wednesday\, August 27th\,\nTime:  9:00AM-2:00PM\n\nLocation:  ExpandED Schools Office\n                   218 W 40th Street\, 12th floor.\n\nBreakfast and lunch will be served and SACC credit will be given.
URL:https://www.expandedschools.org/event/lit-c-r-e-w-launch-building-literacy-through-creativity/
CATEGORIES:LIT C.R.E.W.,Literacy
LOCATION:
END:VEVENT
END:VCALENDAR