














BEGIN:VCALENDAR
VERSION:2.0
PRODID:-//ExpandED Schools - ECPv6.15.20//NONSGML v1.0//EN
CALSCALE:GREGORIAN
METHOD:PUBLISH
X-ORIGINAL-URL:https://www.expandedschools.org
X-WR-CALDESC:Events for ExpandED Schools
REFRESH-INTERVAL;VALUE=DURATION:PT1H
X-Robots-Tag:noindex
X-PUBLISHED-TTL:PT1H
BEGIN:VTIMEZONE
TZID:America/New_York
BEGIN:DAYLIGHT
TZOFFSETFROM:-0500
TZOFFSETTO:-0400
TZNAME:EDT
DTSTART:20240310T070000
END:DAYLIGHT
BEGIN:STANDARD
TZOFFSETFROM:-0400
TZOFFSETTO:-0500
TZNAME:EST
DTSTART:20241103T060000
END:STANDARD
BEGIN:DAYLIGHT
TZOFFSETFROM:-0500
TZOFFSETTO:-0400
TZNAME:EDT
DTSTART:20250309T070000
END:DAYLIGHT
BEGIN:STANDARD
TZOFFSETFROM:-0400
TZOFFSETTO:-0500
TZNAME:EST
DTSTART:20251102T060000
END:STANDARD
BEGIN:DAYLIGHT
TZOFFSETFROM:-0500
TZOFFSETTO:-0400
TZNAME:EDT
DTSTART:20260308T070000
END:DAYLIGHT
BEGIN:STANDARD
TZOFFSETFROM:-0400
TZOFFSETTO:-0500
TZNAME:EST
DTSTART:20261101T060000
END:STANDARD
END:VTIMEZONE
BEGIN:VEVENT
DTSTART;TZID=America/New_York:20251015T090000
DTEND;TZID=America/New_York:20251015T120000
DTSTAMP:20260425T225142
CREATED:20250916T140036Z
LAST-MODIFIED:20251010T151015Z
UID:10001280-1760518800-1760529600@www.expandedschools.org
SUMMARY:“Characters in Action: Bringing Stories to Life with Lit C.R.E.W.”
DESCRIPTION:Join us on October 15th in person at the ExpandED Schools Office\,  218 W. 40th Street\, 12th Floor. New York\, NY 10018\, from 9:00 am -12:00 pm for a dynamic work session focused on Characterization\, the way authors create and develop characters to make stories come alive. Characterization isn’t just about what a character does—it’s about their thoughts\, feelings\, motivations\, and the choices that reveal who they truly are. When students understand this\, they can better analyze texts and create their own meaningful stories. \nThis session will highlight: \n\nVocabulary Development – building the descriptive language students need to capture personalities and traits.\nBuilding Background Knowledge – helping students connect characters to culture\, history\, and context.\nSkill Building – hands-on strategies for analyzing characters in texts and guiding students to craft believable\, relatable characters in their own writing.\n\nEducators will leave with ready-to-use activities that spark engagement and deepen students’ understanding of how characters drive stories forward. \n  \nPlease note: Registration will close on Thursday\, October 9th. All attendees must register.
URL:https://www.expandedschools.org/event/characters-in-action-bringing-stories-to-life-with-lit-c-r-e-w/
CATEGORIES:LIT C.R.E.W.
END:VEVENT
END:VCALENDAR