














BEGIN:VCALENDAR
VERSION:2.0
PRODID:-//ExpandED Schools - ECPv6.15.20//NONSGML v1.0//EN
CALSCALE:GREGORIAN
METHOD:PUBLISH
X-ORIGINAL-URL:https://www.expandedschools.org
X-WR-CALDESC:Events for ExpandED Schools
REFRESH-INTERVAL;VALUE=DURATION:PT1H
X-Robots-Tag:noindex
X-PUBLISHED-TTL:PT1H
BEGIN:VTIMEZONE
TZID:America/New_York
BEGIN:DAYLIGHT
TZOFFSETFROM:-0500
TZOFFSETTO:-0400
TZNAME:EDT
DTSTART:20240310T070000
END:DAYLIGHT
BEGIN:STANDARD
TZOFFSETFROM:-0400
TZOFFSETTO:-0500
TZNAME:EST
DTSTART:20241103T060000
END:STANDARD
BEGIN:DAYLIGHT
TZOFFSETFROM:-0500
TZOFFSETTO:-0400
TZNAME:EDT
DTSTART:20250309T070000
END:DAYLIGHT
BEGIN:STANDARD
TZOFFSETFROM:-0400
TZOFFSETTO:-0500
TZNAME:EST
DTSTART:20251102T060000
END:STANDARD
BEGIN:DAYLIGHT
TZOFFSETFROM:-0500
TZOFFSETTO:-0400
TZNAME:EDT
DTSTART:20260308T070000
END:DAYLIGHT
BEGIN:STANDARD
TZOFFSETFROM:-0400
TZOFFSETTO:-0500
TZNAME:EST
DTSTART:20261101T060000
END:STANDARD
END:VTIMEZONE
BEGIN:VEVENT
DTSTART;TZID=America/New_York:20251210T090000
DTEND;TZID=America/New_York:20251210T120000
DTSTAMP:20260425T201057
CREATED:20250917T020829Z
LAST-MODIFIED:20251204T154901Z
UID:10001282-1765357200-1765368000@www.expandedschools.org
SUMMARY:“Plot Power: Mapping Stories that Move with Lit C.R.E.W.”
DESCRIPTION:Join us on December 10th in person at the ExpandED Schools Office\,  218 W. 40th Street\, 12th Floor. New York\, NY 10018\, from 9:00 am -12:00 pm for a dynamic work session focused on plot.  \nPlot is the backbone of every story—the sequence of events that builds tension and resolution. Understanding plot helps students see how stories are structured and why certain events matter. \nThis session will focus on: \n\nVocabulary – key terms like exposition\, climax\, and resolution.\nBuilding Background Knowledge – connecting familiar stories and media to plot structure.\nSkill Building – guiding students in mapping and crafting plots that keep readers engaged.\n\n  \nPlease note: Registration will close on Thursday\, December 4th. All attendees must register.
URL:https://www.expandedschools.org/event/plot-power-mapping-stories-that-move-with-lit-c-r-e-w/
CATEGORIES:LIT C.R.E.W.
END:VEVENT
END:VCALENDAR