














BEGIN:VCALENDAR
VERSION:2.0
PRODID:-//ExpandED Schools - ECPv6.15.20//NONSGML v1.0//EN
CALSCALE:GREGORIAN
METHOD:PUBLISH
X-WR-CALNAME:ExpandED Schools
X-ORIGINAL-URL:https://www.expandedschools.org
X-WR-CALDESC:Events for ExpandED Schools
REFRESH-INTERVAL;VALUE=DURATION:PT1H
X-Robots-Tag:noindex
X-PUBLISHED-TTL:PT1H
BEGIN:VTIMEZONE
TZID:America/New_York
BEGIN:DAYLIGHT
TZOFFSETFROM:-0500
TZOFFSETTO:-0400
TZNAME:EDT
DTSTART:20240310T070000
END:DAYLIGHT
BEGIN:STANDARD
TZOFFSETFROM:-0400
TZOFFSETTO:-0500
TZNAME:EST
DTSTART:20241103T060000
END:STANDARD
BEGIN:DAYLIGHT
TZOFFSETFROM:-0500
TZOFFSETTO:-0400
TZNAME:EDT
DTSTART:20250309T070000
END:DAYLIGHT
BEGIN:STANDARD
TZOFFSETFROM:-0400
TZOFFSETTO:-0500
TZNAME:EST
DTSTART:20251102T060000
END:STANDARD
BEGIN:DAYLIGHT
TZOFFSETFROM:-0500
TZOFFSETTO:-0400
TZNAME:EDT
DTSTART:20260308T070000
END:DAYLIGHT
BEGIN:STANDARD
TZOFFSETFROM:-0400
TZOFFSETTO:-0500
TZNAME:EST
DTSTART:20261101T060000
END:STANDARD
END:VTIMEZONE
BEGIN:VEVENT
DTSTART;TZID=America/New_York:20250204T100000
DTEND;TZID=America/New_York:20250204T120000
DTSTAMP:20260419T083923
CREATED:20250109T220244Z
LAST-MODIFIED:20250203T193103Z
UID:10000860-1738663200-1738670400@www.expandedschools.org
SUMMARY:CORE PD: Introduction to Afterschool
DESCRIPTION:In this workshop\, participants will be introduced to a baseline understanding of after-school programming which include key elements/concepts such as effective classroom facilitation/engagement\, best practices for classroom management across various grade bands as well as compliance/incident reporting-*Line Staff (Group leaders/Activity specialists) only. \nSchool-Age Childcare training regulations satisfied: 3 \nPlease note that active participation during the session is required in order to receive letters of completion. Letters of completion can only be distributed to participants whose identities are verified. \nLocation:  \nRemote. A link to the training will be sent by email. This is a camera-on workshop.
URL:https://www.expandedschools.org/event/core-pd-introduction-to-afterschool-4/
CATEGORIES:Program-support
END:VEVENT
END:VCALENDAR