














BEGIN:VCALENDAR
VERSION:2.0
PRODID:-//ExpandED Schools - ECPv6.15.20//NONSGML v1.0//EN
CALSCALE:GREGORIAN
METHOD:PUBLISH
X-ORIGINAL-URL:https://www.expandedschools.org
X-WR-CALDESC:Events for ExpandED Schools
REFRESH-INTERVAL;VALUE=DURATION:PT1H
X-Robots-Tag:noindex
X-PUBLISHED-TTL:PT1H
BEGIN:VTIMEZONE
TZID:America/New_York
BEGIN:DAYLIGHT
TZOFFSETFROM:-0500
TZOFFSETTO:-0400
TZNAME:EDT
DTSTART:20240310T070000
END:DAYLIGHT
BEGIN:STANDARD
TZOFFSETFROM:-0400
TZOFFSETTO:-0500
TZNAME:EST
DTSTART:20241103T060000
END:STANDARD
BEGIN:DAYLIGHT
TZOFFSETFROM:-0500
TZOFFSETTO:-0400
TZNAME:EDT
DTSTART:20250309T070000
END:DAYLIGHT
BEGIN:STANDARD
TZOFFSETFROM:-0400
TZOFFSETTO:-0500
TZNAME:EST
DTSTART:20251102T060000
END:STANDARD
BEGIN:DAYLIGHT
TZOFFSETFROM:-0500
TZOFFSETTO:-0400
TZNAME:EDT
DTSTART:20260308T070000
END:DAYLIGHT
BEGIN:STANDARD
TZOFFSETFROM:-0400
TZOFFSETTO:-0500
TZNAME:EST
DTSTART:20261101T060000
END:STANDARD
END:VTIMEZONE
BEGIN:VEVENT
DTSTART;TZID=America/New_York:20250304T100000
DTEND;TZID=America/New_York:20250304T123000
DTSTAMP:20260419T134419
CREATED:20250109T192323Z
LAST-MODIFIED:20250126T044527Z
UID:10000856-1741082400-1741091400@www.expandedschools.org
SUMMARY:CORE PD: Fostering Inclusivity: Supporting students who are Neurodiverse in after-school 101 and 102
DESCRIPTION:In this workshop participants will begin to develop a comprehensive understanding of effective strategies and best practices for working with students who are Neurodiverse. We will conduct targeted discussions for line staff (group leaders/activity specialists) and upper management (Directors\, Site Supervisors) in the areas of adapting learning styles\, strengthening activity facilitation\, providing continuous support for staff\, engaging with families\, and more. \nSchool-Age Child Care training regulations satisfied: 3 \nPlease note that active participation during the session is required in order to receive letters of completion. Letters of completion can only be distributed to participants whose identities are verified. \nLocation:  \nRemote. A link to the training will be sent by email. This is a camera-on workshop.
URL:https://www.expandedschools.org/event/core-pd-fostering-inclusivity-supporting-students-who-are-neurodiverse-in-after-school-101-102-2/
CATEGORIES:Program-support
END:VEVENT
END:VCALENDAR