














BEGIN:VCALENDAR
VERSION:2.0
PRODID:-//ExpandED Schools - ECPv6.15.20//NONSGML v1.0//EN
CALSCALE:GREGORIAN
METHOD:PUBLISH
X-WR-CALNAME:ExpandED Schools
X-ORIGINAL-URL:https://www.expandedschools.org
X-WR-CALDESC:Events for ExpandED Schools
REFRESH-INTERVAL;VALUE=DURATION:PT1H
X-Robots-Tag:noindex
X-PUBLISHED-TTL:PT1H
BEGIN:VTIMEZONE
TZID:America/New_York
BEGIN:DAYLIGHT
TZOFFSETFROM:-0500
TZOFFSETTO:-0400
TZNAME:EDT
DTSTART:20240310T070000
END:DAYLIGHT
BEGIN:STANDARD
TZOFFSETFROM:-0400
TZOFFSETTO:-0500
TZNAME:EST
DTSTART:20241103T060000
END:STANDARD
BEGIN:DAYLIGHT
TZOFFSETFROM:-0500
TZOFFSETTO:-0400
TZNAME:EDT
DTSTART:20250309T070000
END:DAYLIGHT
BEGIN:STANDARD
TZOFFSETFROM:-0400
TZOFFSETTO:-0500
TZNAME:EST
DTSTART:20251102T060000
END:STANDARD
BEGIN:DAYLIGHT
TZOFFSETFROM:-0500
TZOFFSETTO:-0400
TZNAME:EDT
DTSTART:20260308T070000
END:DAYLIGHT
BEGIN:STANDARD
TZOFFSETFROM:-0400
TZOFFSETTO:-0500
TZNAME:EST
DTSTART:20261101T060000
END:STANDARD
END:VTIMEZONE
BEGIN:VEVENT
DTSTART;TZID=America/New_York:20251007T093000
DTEND;TZID=America/New_York:20251007T123000
DTSTAMP:20260419T213238
CREATED:20250919T171811Z
LAST-MODIFIED:20251006T154131Z
UID:10001286-1759829400-1759840200@www.expandedschools.org
SUMMARY:Directors Convening: Start-Up  and Planning Meeting: Tuesday\, October 7\, 2025
DESCRIPTION:  \nWe invite program directors/coordinators to come together in person on Tuesday\, October 7th\, from 9:30 am-12:30 pm at the ExpandED Schools office\, 218 W. 40th Street\, 12th Floor. New York\, NY 10018\, for a collaborative convening designed to strengthen program quality and coordination. \nThis meeting will provide an opportunity for directors to discuss programmatic goals\, share best practices\, and identify strategies to streamline supports and resources. Through open dialogue and joint planning\, participants will work together to align their efforts\, enhance student outcomes\, and build a stronger network. Breakfast will be provided! \n  \nAll participants are required to register for the Director’s Convening by Friday October 3rd.
URL:https://www.expandedschools.org/event/directors-convenings-start-up-and-planning-meeting/
CATEGORIES:Program-support
END:VEVENT
END:VCALENDAR