














BEGIN:VCALENDAR
VERSION:2.0
PRODID:-//ExpandED Schools - ECPv6.15.20//NONSGML v1.0//EN
CALSCALE:GREGORIAN
METHOD:PUBLISH
X-ORIGINAL-URL:https://www.expandedschools.org
X-WR-CALDESC:Events for ExpandED Schools
REFRESH-INTERVAL;VALUE=DURATION:PT1H
X-Robots-Tag:noindex
X-PUBLISHED-TTL:PT1H
BEGIN:VTIMEZONE
TZID:America/New_York
BEGIN:DAYLIGHT
TZOFFSETFROM:-0500
TZOFFSETTO:-0400
TZNAME:EDT
DTSTART:20240310T070000
END:DAYLIGHT
BEGIN:STANDARD
TZOFFSETFROM:-0400
TZOFFSETTO:-0500
TZNAME:EST
DTSTART:20241103T060000
END:STANDARD
BEGIN:DAYLIGHT
TZOFFSETFROM:-0500
TZOFFSETTO:-0400
TZNAME:EDT
DTSTART:20250309T070000
END:DAYLIGHT
BEGIN:STANDARD
TZOFFSETFROM:-0400
TZOFFSETTO:-0500
TZNAME:EST
DTSTART:20251102T060000
END:STANDARD
BEGIN:DAYLIGHT
TZOFFSETFROM:-0500
TZOFFSETTO:-0400
TZNAME:EDT
DTSTART:20260308T070000
END:DAYLIGHT
BEGIN:STANDARD
TZOFFSETFROM:-0400
TZOFFSETTO:-0500
TZNAME:EST
DTSTART:20261101T060000
END:STANDARD
END:VTIMEZONE
BEGIN:VEVENT
DTSTART;TZID=America/New_York:20251013T100000
DTEND;TZID=America/New_York:20251013T120000
DTSTAMP:20260419T231044
CREATED:20250924T190041Z
LAST-MODIFIED:20251010T190514Z
UID:10001299-1760349600-1760356800@www.expandedschools.org
SUMMARY:CORE PD: After-School 101
DESCRIPTION:Description: This workshop provides an introductory overview of core afterschool programming practices. Participants will learn foundational concepts including effective classroom facilitation and engagement strategies\, best practices for managing classrooms across multiple grade levels\, and essential procedures for compliance and incident reporting. \nSchool-Age Childcare training regulations satisfied: 3                              Please note that active participation during the session is required in order to receive letters of completion. Letters of completion can only be distributed to participants whose identities are verified. \nLocation: This training will be held remotely. A participation link will be emailed to registered attendees. Please note that cameras are expected to remain on during the workshop.
URL:https://www.expandedschools.org/event/core-pd-after-school-101/
CATEGORIES:Program-support
END:VEVENT
BEGIN:VEVENT
DTSTART;TZID=America/New_York:20251014T100000
DTEND;TZID=America/New_York:20251014T120000
DTSTAMP:20260419T231044
CREATED:20250924T175108Z
LAST-MODIFIED:20251010T153814Z
UID:10001289-1760436000-1760443200@www.expandedschools.org
SUMMARY:CORE PD: Lit Up-Igniting Literacy in Afterschool Programs
DESCRIPTION:Description: Unlock the power of literacy in your afterschool program with Lit Up: Igniting Literacy in Afterschool Programs! This engaging professional development session will equip educators with practical strategies to seamlessly integrate literacy into afterschool activities. From creating literacy-rich environments to incorporating digital tools and cross-curricular connections\, participants will leave with a ready-to-use toolkit for fostering a love of reading and writing. Through interactive discussions\, hands-on activities\, and collaborative planning\, you’ll gain fresh ideas to inspire students and bridge literacy gaps. Join us and spark a passion for literacy that extends beyond the classroom! \nSchool-Age Childcare training regulations satisfied: 3                                                                                                                                                                                                                        Please note that active participation during the session is required in order to receive letters of completion. Letters of completion can only be distributed to participants whose identities are verified. \nLocation: This training will be held remotely. A participation link will be emailed to registered attendees. Please note that cameras are expected to remain on during the workshop.
URL:https://www.expandedschools.org/event/core-pd-lit-up-igniting-literacy-in-afterschool-programs/
CATEGORIES:Program-support
END:VEVENT
BEGIN:VEVENT
DTSTART;TZID=America/New_York:20251016T100000
DTEND;TZID=America/New_York:20251016T120000
DTSTAMP:20260419T231044
CREATED:20250924T175927Z
LAST-MODIFIED:20251015T140810Z
UID:10001290-1760608800-1760616000@www.expandedschools.org
SUMMARY:CORE PD: Youth Development 101: Ages and Stages
DESCRIPTION:Description: This training provides youth development professionals with an overview of age-specific developmental milestones across cognitive\, social\, and emotional domains. Participants will learn to recognize typical growth patterns\, identify when additional support may be needed\, and design age-appropriate activities that align with children’s developmental stages. By applying these practices\, staff can better meet individual needs and enhance the learning and well-being of the young people they serve. \n  \nSchool-Age Childcare training regulations satisfied: 3                              Please note that active participation during the session is required in order to receive letters of completion. Letters of completion can only be distributed to participants whose identities are verified. \nLocation: This training has been switched to a remote session. Zoom information will be provided upon registering.
URL:https://www.expandedschools.org/event/core-pd-youth-development-101-ages-and-stages-6/
CATEGORIES:Program-support
END:VEVENT
END:VCALENDAR