














BEGIN:VCALENDAR
VERSION:2.0
PRODID:-//ExpandED Schools - ECPv6.15.20//NONSGML v1.0//EN
CALSCALE:GREGORIAN
METHOD:PUBLISH
X-WR-CALNAME:ExpandED Schools
X-ORIGINAL-URL:https://www.expandedschools.org
X-WR-CALDESC:Events for ExpandED Schools
REFRESH-INTERVAL;VALUE=DURATION:PT1H
X-Robots-Tag:noindex
X-PUBLISHED-TTL:PT1H
BEGIN:VTIMEZONE
TZID:America/New_York
BEGIN:DAYLIGHT
TZOFFSETFROM:-0500
TZOFFSETTO:-0400
TZNAME:EDT
DTSTART:20240310T070000
END:DAYLIGHT
BEGIN:STANDARD
TZOFFSETFROM:-0400
TZOFFSETTO:-0500
TZNAME:EST
DTSTART:20241103T060000
END:STANDARD
BEGIN:DAYLIGHT
TZOFFSETFROM:-0500
TZOFFSETTO:-0400
TZNAME:EDT
DTSTART:20250309T070000
END:DAYLIGHT
BEGIN:STANDARD
TZOFFSETFROM:-0400
TZOFFSETTO:-0500
TZNAME:EST
DTSTART:20251102T060000
END:STANDARD
BEGIN:DAYLIGHT
TZOFFSETFROM:-0500
TZOFFSETTO:-0400
TZNAME:EDT
DTSTART:20260308T070000
END:DAYLIGHT
BEGIN:STANDARD
TZOFFSETFROM:-0400
TZOFFSETTO:-0500
TZNAME:EST
DTSTART:20261101T060000
END:STANDARD
END:VTIMEZONE
BEGIN:VEVENT
DTSTART;TZID=America/New_York:20251022T100000
DTEND;TZID=America/New_York:20251022T120000
DTSTAMP:20260420T005148
CREATED:20250924T185413Z
LAST-MODIFIED:20260116T211801Z
UID:10001298-1761127200-1761134400@www.expandedschools.org
SUMMARY:Fostering Inclusivity 101: Supporting Neurodiverse students in After-School
DESCRIPTION:Description: This introductory session invites participants to explore strategies for more effectively supporting neurodiverse students in afterschool settings. Attendees will examine diverse learning styles\, strengthen their activity leadership skills\, and learn approaches for enhancing staff support. The session will highlight key techniques and best practices to foster inclusivity and promote learning diversity within the classroom environment. \nSchool-Age Childcare training regulations satisfied: 3                              Please note that active participation during the session is required in order to receive letters of completion. Letters of completion can only be distributed to participants whose identities are verified. \nLocation: This training will be held remotely. A participation link will be emailed to registered attendees. Please note that cameras are expected to remain on during the workshop.
URL:https://www.expandedschools.org/event/core-pd-fostering-inclusivity-101-supporting-neurodiverse-students-in-after-school/
CATEGORIES:Program-support
END:VEVENT
END:VCALENDAR