














BEGIN:VCALENDAR
VERSION:2.0
PRODID:-//ExpandED Schools - ECPv6.15.20//NONSGML v1.0//EN
CALSCALE:GREGORIAN
METHOD:PUBLISH
X-WR-CALNAME:ExpandED Schools
X-ORIGINAL-URL:https://www.expandedschools.org
X-WR-CALDESC:Events for ExpandED Schools
REFRESH-INTERVAL;VALUE=DURATION:PT1H
X-Robots-Tag:noindex
X-PUBLISHED-TTL:PT1H
BEGIN:VTIMEZONE
TZID:America/New_York
BEGIN:DAYLIGHT
TZOFFSETFROM:-0500
TZOFFSETTO:-0400
TZNAME:EDT
DTSTART:20240310T070000
END:DAYLIGHT
BEGIN:STANDARD
TZOFFSETFROM:-0400
TZOFFSETTO:-0500
TZNAME:EST
DTSTART:20241103T060000
END:STANDARD
BEGIN:DAYLIGHT
TZOFFSETFROM:-0500
TZOFFSETTO:-0400
TZNAME:EDT
DTSTART:20250309T070000
END:DAYLIGHT
BEGIN:STANDARD
TZOFFSETFROM:-0400
TZOFFSETTO:-0500
TZNAME:EST
DTSTART:20251102T060000
END:STANDARD
BEGIN:DAYLIGHT
TZOFFSETFROM:-0500
TZOFFSETTO:-0400
TZNAME:EDT
DTSTART:20260308T070000
END:DAYLIGHT
BEGIN:STANDARD
TZOFFSETFROM:-0400
TZOFFSETTO:-0500
TZNAME:EST
DTSTART:20261101T060000
END:STANDARD
END:VTIMEZONE
BEGIN:VEVENT
DTSTART;TZID=America/New_York:20251119T100000
DTEND;TZID=America/New_York:20251119T120000
DTSTAMP:20260420T053437
CREATED:20250924T180729Z
LAST-MODIFIED:20260116T211554Z
UID:10001291-1763546400-1763553600@www.expandedschools.org
SUMMARY:Lesson Plans that Pop: Designing Engaging Learning with Literacy at the Core
DESCRIPTION:Description: This interactive workshop equips educators with strategies to design lesson plans that not only meet learning objectives but also spark curiosity\, creativity\, and critical thinking. With literacy as the anchor\, participants will learn how to weave reading\, writing\, speaking\, and listening skills into any subject area. Through hands-on activities\, collaborative challenges\, and real-world examples\, educators will leave with ready-to-use lesson structures\, fresh ideas for active student engagement\, and a toolkit of literacy-rich strategies that work for diverse learners. \nSchool-Age Childcare training regulations satisfied: 3                              Please note that active participation during the session is required in order to receive letters of completion. Letters of completion can only be distributed to participants whose identities are verified. \nLocation: This training will be held remotely. A participation link will be emailed to registered attendees. Please note that cameras are expected to remain on during the workshop.
URL:https://www.expandedschools.org/event/core-pd-lesson-plans-that-pop-designing-engaging-learning-with-literacy-at-the-core/
CATEGORIES:Program-support
END:VEVENT
END:VCALENDAR