














BEGIN:VCALENDAR
VERSION:2.0
PRODID:-//ExpandED Schools - ECPv6.15.20//NONSGML v1.0//EN
CALSCALE:GREGORIAN
METHOD:PUBLISH
X-ORIGINAL-URL:https://www.expandedschools.org
X-WR-CALDESC:Events for ExpandED Schools
REFRESH-INTERVAL;VALUE=DURATION:PT1H
X-Robots-Tag:noindex
X-PUBLISHED-TTL:PT1H
BEGIN:VTIMEZONE
TZID:America/New_York
BEGIN:DAYLIGHT
TZOFFSETFROM:-0500
TZOFFSETTO:-0400
TZNAME:EDT
DTSTART:20220313T070000
END:DAYLIGHT
BEGIN:STANDARD
TZOFFSETFROM:-0400
TZOFFSETTO:-0500
TZNAME:EST
DTSTART:20221106T060000
END:STANDARD
BEGIN:DAYLIGHT
TZOFFSETFROM:-0500
TZOFFSETTO:-0400
TZNAME:EDT
DTSTART:20230312T070000
END:DAYLIGHT
BEGIN:STANDARD
TZOFFSETFROM:-0400
TZOFFSETTO:-0500
TZNAME:EST
DTSTART:20231105T060000
END:STANDARD
BEGIN:DAYLIGHT
TZOFFSETFROM:-0500
TZOFFSETTO:-0400
TZNAME:EDT
DTSTART:20240310T070000
END:DAYLIGHT
BEGIN:STANDARD
TZOFFSETFROM:-0400
TZOFFSETTO:-0500
TZNAME:EST
DTSTART:20241103T060000
END:STANDARD
END:VTIMEZONE
BEGIN:VEVENT
DTSTART;TZID=America/New_York:20231205T120000
DTEND;TZID=America/New_York:20231205T140000
DTSTAMP:20260425T070411
CREATED:20231025T185324Z
LAST-MODIFIED:20231221T184059Z
UID:10000570-1701777600-1701784800@www.expandedschools.org
SUMMARY:Relationship Building
DESCRIPTION:Learning to engage students and create a positive SEL-friendly environment through techniques of relationship building. \nPlease note that active participation during the session is required in order to receive letters of completion. Letters of completion can only be distributed to participants whose identities are verified.
URL:https://www.expandedschools.org/event/relationship-building-2/
CATEGORIES:Social-Emotional Learning
END:VEVENT
BEGIN:VEVENT
DTSTART;TZID=America/New_York:20231212T120000
DTEND;TZID=America/New_York:20231212T120000
DTSTAMP:20260425T070411
CREATED:20231025T190031Z
LAST-MODIFIED:20231212T150448Z
UID:10000571-1702382400-1702382400@www.expandedschools.org
SUMMARY:Creating a Welcoming Environment
DESCRIPTION:Learning how to turn educational spaces into a warm and welcoming environment where youth feel a sense of belonging and affirmed in their life experiences. Utilizing empathetic listening practices to identify youth needs and cultivate a caring environment. \nPlease note that active participation during the session is required in order to receive letters of completion. Letters of completion can only be distributed to participants whose identities are verified.
URL:https://www.expandedschools.org/event/creating-a-welcoming-environment/
CATEGORIES:Social-Emotional Learning
END:VEVENT
END:VCALENDAR