














BEGIN:VCALENDAR
VERSION:2.0
PRODID:-//ExpandED Schools - ECPv6.15.20//NONSGML v1.0//EN
CALSCALE:GREGORIAN
METHOD:PUBLISH
X-WR-CALNAME:ExpandED Schools
X-ORIGINAL-URL:https://www.expandedschools.org
X-WR-CALDESC:Events for ExpandED Schools
REFRESH-INTERVAL;VALUE=DURATION:PT1H
X-Robots-Tag:noindex
X-PUBLISHED-TTL:PT1H
BEGIN:VTIMEZONE
TZID:UTC
BEGIN:STANDARD
TZOFFSETFROM:+0000
TZOFFSETTO:+0000
TZNAME:UTC
DTSTART:20210101T000000
END:STANDARD
END:VTIMEZONE
BEGIN:VTIMEZONE
TZID:America/New_York
BEGIN:DAYLIGHT
TZOFFSETFROM:-0500
TZOFFSETTO:-0400
TZNAME:EDT
DTSTART:20210314T070000
END:DAYLIGHT
BEGIN:STANDARD
TZOFFSETFROM:-0400
TZOFFSETTO:-0500
TZNAME:EST
DTSTART:20211107T060000
END:STANDARD
BEGIN:DAYLIGHT
TZOFFSETFROM:-0500
TZOFFSETTO:-0400
TZNAME:EDT
DTSTART:20220313T070000
END:DAYLIGHT
BEGIN:STANDARD
TZOFFSETFROM:-0400
TZOFFSETTO:-0500
TZNAME:EST
DTSTART:20221106T060000
END:STANDARD
BEGIN:DAYLIGHT
TZOFFSETFROM:-0500
TZOFFSETTO:-0400
TZNAME:EDT
DTSTART:20230312T070000
END:DAYLIGHT
BEGIN:STANDARD
TZOFFSETFROM:-0400
TZOFFSETTO:-0500
TZNAME:EST
DTSTART:20231105T060000
END:STANDARD
END:VTIMEZONE
BEGIN:VEVENT
DTSTART;VALUE=DATE:20221101
DTEND;VALUE=DATE:20221102
DTSTAMP:20260420T061743
CREATED:20220920T222827Z
LAST-MODIFIED:20221028T175214Z
UID:10000365-1667260800-1667347199@www.expandedschools.org
SUMMARY:Collaborating with your STEM Team
DESCRIPTION:Want to boost collaboration among educators at your site? Explore varying approaches to build up the STEM facilitators at your site to learn from and uplift one another. \nThis will be an in-person event held at ExpandED Schools Office: \n11 West 42nd Street\, 3rd Floor\,\nNew York\, NY 10036
URL:https://www.expandedschools.org/event/collaborating-with-your-stem-team/
CATEGORIES:STEM
END:VEVENT
BEGIN:VEVENT
DTSTART;VALUE=DATE:20221101
DTEND;VALUE=DATE:20221102
DTSTAMP:20260420T061743
CREATED:20221003T074103Z
LAST-MODIFIED:20221020T183133Z
UID:10000385-1667260800-1667347199@www.expandedschools.org
SUMMARY:CORE PD Line Staff 101 Lesson Planning and Delivery
DESCRIPTION:Lesson planning is foundational to good instruction. New staff and veterans alike may struggle with questions about what a quality lesson plan looks like. Join us in this session as we organize content\, explore methods of lesson delivery and plan actual lessons together. \nSchool-Age Child Care training regulations satisfied: 3 \nLocation: Remote. A link to the training will be sent by email a day prior to the session.
URL:https://www.expandedschools.org/event/line-staff-101-lesson-planning-and-delivery/
CATEGORIES:Program-support
END:VEVENT
BEGIN:VEVENT
DTSTART;VALUE=DATE:20221102
DTEND;VALUE=DATE:20221103
DTSTAMP:20260420T061743
CREATED:20220929T235529Z
LAST-MODIFIED:20221013T203126Z
UID:10000379-1667347200-1667433599@www.expandedschools.org
SUMMARY:Educator Series - Session 1: Identifying & Supporting Multilingual Learners (Webinar)
DESCRIPTION:Who are the Multilingual Learners and how can you support them? This workshop will teach you how English Language Learners are identified in NYC and how you can support them. Come learn how diverse their background is and some important concepts of second language acquisition. This workshop is designed for educators who serve English Language Learners and want to be better prepared to support their unique learning needs.
URL:https://www.expandedschools.org/event/educator-series-session-1-identifying-supporting-multilingual-learners/
LOCATION:NY\, United States
CATEGORIES:DYCD
END:VEVENT
BEGIN:VEVENT
DTSTART;VALUE=DATE:20221102
DTEND;VALUE=DATE:20221103
DTSTAMP:20260420T061743
CREATED:20221003T223915Z
LAST-MODIFIED:20221027T210543Z
UID:10000400-1667347200-1667433599@www.expandedschools.org
SUMMARY:CORE PD Introduction to Afterschool
DESCRIPTION:In this interactive workshop\, participants will be introduced to a baseline understanding of after-school programming which includes key elements/concepts that can be used to improve program quality. Participants will learn best practices for classroom management\, activity observations\, compliance\, and incident reporting. Participants will also develop a baseline understanding of how to work/engage students in various grade bands. \nSchool-Age Child Care training regulations satisfied: 3 \nLocation: Remote. A link to the training will be sent by email a day prior to the session.
URL:https://www.expandedschools.org/event/core-pd-introduction-to-afterschool/
CATEGORIES:Program-support
END:VEVENT
BEGIN:VEVENT
DTSTART;VALUE=DATE:20221103
DTEND;VALUE=DATE:20221104
DTSTAMP:20260420T061743
CREATED:20221014T014651Z
LAST-MODIFIED:20221014T014651Z
UID:10000422-1667433600-1667519999@www.expandedschools.org
SUMMARY:Computer Science: 101 For New Educators
DESCRIPTION:As we quickly move toward an ever-increasing digital worldview\, it’s becoming more and more important to build computer literacy and computational thinking skills. CS:101 is a virtual workshop to help you introduce computation and computer science in after-school. This session does not require any computer science background and will provide resources for high quality computer science.
URL:https://www.expandedschools.org/event/computer-science-101-for-new-educators/
CATEGORIES:DYCD
END:VEVENT
BEGIN:VEVENT
DTSTART;VALUE=DATE:20221105
DTEND;VALUE=DATE:20221106
DTSTAMP:20260420T061743
CREATED:20220920T230928Z
LAST-MODIFIED:20221020T140824Z
UID:10000368-1667606400-1667692799@www.expandedschools.org
SUMMARY:Facilitating the Engineering Design Process
DESCRIPTION:Looking to support learners in planning\, building\, and testing their own designs? Join us to explore STEM facilitation techniques and activities focused on the engineering design process! \nThis session will feature the Spaghetti Marshmallow Design Challenge and a tour of the newly renovated exhibition hall at the New York Hall of Science.
URL:https://www.expandedschools.org/event/facilitating-the-engineering-design-process/
LOCATION:NY\, United States
CATEGORIES:STEM
END:VEVENT
BEGIN:VEVENT
DTSTART;VALUE=DATE:20221107
DTEND;VALUE=DATE:20221108
DTSTAMP:20260420T061743
CREATED:20221003T074958Z
LAST-MODIFIED:20221021T152628Z
UID:10000386-1667779200-1667865599@www.expandedschools.org
SUMMARY:CORE PD Working with Students with Special Needs
DESCRIPTION:Activities in this workshop will cover the Individualized Education Plan (IEP)\, the types of disability classifications\, learning styles\, and strategies that enhance an inclusive environment. We’ll also practice making accommodations together so you can best support a child with special needs in your program \n  \nSchool-Age Child Care training regulations satisfied: 3 \nLocation: Remote. A link to the training will be sent by email a day prior to the session.
URL:https://www.expandedschools.org/event/core-pd-working-with-students-with-special-needs/
CATEGORIES:Program-support
END:VEVENT
BEGIN:VEVENT
DTSTART;VALUE=DATE:20221107
DTEND;VALUE=DATE:20221108
DTSTAMP:20260420T061743
CREATED:20221014T014825Z
LAST-MODIFIED:20221014T143340Z
UID:10000423-1667779200-1667865599@www.expandedschools.org
SUMMARY:STEM: 101 For New Educators
DESCRIPTION:In this virtual workshop\, we’ll explore STEM in afterschool. The workshop will take an in depth look at the Next Generation Science Standards\, Scientific and Engineering Practices to help us understand how to implement authentic STEM experiences. Participants will also receive virtual and physical curricular resources to continue their implementation.
URL:https://www.expandedschools.org/event/stem-101-for-new-educators/
CATEGORIES:DYCD
END:VEVENT
BEGIN:VEVENT
DTSTART;VALUE=DATE:20221108
DTEND;VALUE=DATE:20221109
DTSTAMP:20260420T061743
CREATED:20221004T222441Z
LAST-MODIFIED:20221104T194723Z
UID:10000403-1667865600-1667951999@www.expandedschools.org
SUMMARY:Trauma Informed Learning
DESCRIPTION:Learn the effects of trauma on youth and families and how to integrate supportive and healing practices within a school community. \nThis is a virtual event held on Zoom. The Zoom link will be available to you through email and on this page after you register.
URL:https://www.expandedschools.org/event/trauma-informed-learning/
LOCATION:NY\, United States
CATEGORIES:Social-Emotional Learning
END:VEVENT
BEGIN:VEVENT
DTSTART;VALUE=DATE:20221109
DTEND;VALUE=DATE:20221110
DTSTAMP:20260420T061743
CREATED:20220929T235840Z
LAST-MODIFIED:20221013T203301Z
UID:10000380-1667952000-1668038399@www.expandedschools.org
SUMMARY:Educator Series - Session 2: Differentiated Lessons for Multilingual Learners (Webinar)
DESCRIPTION:How can you adapt lessons for Multilingual Learners? This workshop will teach you how to make sure that all the students in your class are capable of completing the tasks you have assigned them. Come learn how to understand the different levels of literacy of your students and how to plan lessons that take that into account. This webinar is designed for educators who serve multilingual learners and want to be better prepared to support their unique learning needs.
URL:https://www.expandedschools.org/event/educator-series-session-2-differentiated-lessons-for-multilingual-learners/
LOCATION:NY\, United States
CATEGORIES:DYCD
END:VEVENT
BEGIN:VEVENT
DTSTART;VALUE=DATE:20221109
DTEND;VALUE=DATE:20221110
DTSTAMP:20260420T061743
CREATED:20221014T014933Z
LAST-MODIFIED:20221014T143407Z
UID:10000424-1667952000-1668038399@www.expandedschools.org
SUMMARY:Fostering Inquiry in STEM Activities for New Educators
DESCRIPTION:The heart of all scientific investigation and discovery is curiosity. This virtual session explores inquiry through questioning and facilitation strategies to guide students through scientific investigations. Participants will learn how to set up inquiry-based questions and work through investigations to become champions of inquiry. Participants will also receive virtual and physical curricular resources.
URL:https://www.expandedschools.org/event/fostering-inquiry-in-stem-activities-for-new-educators/
CATEGORIES:DYCD
END:VEVENT
BEGIN:VEVENT
DTSTART;VALUE=DATE:20221110
DTEND;VALUE=DATE:20221111
DTSTAMP:20260420T061743
CREATED:20221003T195127Z
LAST-MODIFIED:20221021T162114Z
UID:10000389-1668038400-1668124799@www.expandedschools.org
SUMMARY:CORE PD Line Staff 101 Assessing Learning
DESCRIPTION:How do you assess learning? This workshop will teach you how to effectively evaluate if your students learned a topic and identify areas where they may need additional support. Participants will learn how to use different types of assessments to help measure learning in their classrooms. This workshop is designed for educators who want to be better prepared to support the needs of their students in in-person classes\, remote or hybrid learning environments. \nSchool-Age Child Care training regulations satisfied: 3 \nLocation: Remote. A link to the training will be sent by email a day prior to the session.
URL:https://www.expandedschools.org/event/core-pd-line-staff-101-assessing-learning/
CATEGORIES:Program-support
END:VEVENT
BEGIN:VEVENT
DTSTART;VALUE=DATE:20221114
DTEND;VALUE=DATE:20221115
DTSTAMP:20260420T061743
CREATED:20221014T140740Z
LAST-MODIFIED:20221014T140919Z
UID:10000426-1668384000-1668470399@www.expandedschools.org
SUMMARY:Computer Science: 201
DESCRIPTION:CS: 201 is a virtual workshop that moves us further along in our computer science training. Participants will take a deeper dive into computer science and computational thinking by challenging participants to build on existing projects and create their own experiences for students.
URL:https://www.expandedschools.org/event/computer-science-201/
CATEGORIES:DYCD
END:VEVENT
BEGIN:VEVENT
DTSTART;VALUE=DATE:20221115
DTEND;VALUE=DATE:20221116
DTSTAMP:20260420T061743
CREATED:20220927T175649Z
LAST-MODIFIED:20221125T230534Z
UID:10000370-1668470400-1668556799@www.expandedschools.org
SUMMARY:ExpandED Options November Advisory Meeting
DESCRIPTION:Advisory Meeting for ExpandED Options Apprenticeship Providers
URL:https://www.expandedschools.org/event/expanded-options-november-advisory-meeting/
CATEGORIES:Career-Connected Learning
END:VEVENT
BEGIN:VEVENT
DTSTART;VALUE=DATE:20221115
DTEND;VALUE=DATE:20221116
DTSTAMP:20260420T061743
CREATED:20221005T195833Z
LAST-MODIFIED:20221020T185732Z
UID:10000409-1668470400-1668556799@www.expandedschools.org
SUMMARY:Youth and Civic Engagement
DESCRIPTION:Learning how to create youth oriented programs that highlight student voice and community leadership. \nThis is a virtual event held on Zoom. The Zoom link will be available to you through email and on this page after you register.
URL:https://www.expandedschools.org/event/youth-and-civic-engagement/
LOCATION:NY\, United States
CATEGORIES:Social-Emotional Learning
END:VEVENT
BEGIN:VEVENT
DTSTART;VALUE=DATE:20221115
DTEND;VALUE=DATE:20221116
DTSTAMP:20260420T061743
CREATED:20221012T232000Z
LAST-MODIFIED:20221020T194839Z
UID:10000416-1668470400-1668556799@www.expandedschools.org
SUMMARY:Meet the Partners
DESCRIPTION:Representatives from charter networks\, the NYC DOE\, and graduate schools will meet with Pathways Fellows to talk about their schools\, teacher preparation programs\, and what they look for in candidates. \nThis is a virtual event held on Zoom. The Zoom link will be available to you through email and on this page after you register.
URL:https://www.expandedschools.org/event/meet-the-partners/
CATEGORIES:Educator Career Development
END:VEVENT
BEGIN:VEVENT
DTSTART;VALUE=DATE:20221115
DTEND;VALUE=DATE:20221116
DTSTAMP:20260420T061743
CREATED:20221013T000021Z
LAST-MODIFIED:20221020T195234Z
UID:10000417-1668470400-1668556799@www.expandedschools.org
SUMMARY:Introduction to Afterschool Literacy
DESCRIPTION:In this session\, Pathways Fellows will learn the various ways literacy is incorporated into afterschool activities. Attendees will also learn the fundamentals of literacy instruction. \nThis is a virtual event held on Zoom. The Zoom link will be available to you through email and on this page after you register.
URL:https://www.expandedschools.org/event/introduction-to-afterschool-literacy/
CATEGORIES:Educator Career Development
END:VEVENT
BEGIN:VEVENT
DTSTART;VALUE=DATE:20221116
DTEND;VALUE=DATE:20221117
DTSTAMP:20260420T061743
CREATED:20220930T000332Z
LAST-MODIFIED:20221013T203328Z
UID:10000381-1668556800-1668643199@www.expandedschools.org
SUMMARY:Educator Series - Session 3: Creating Comics for English Language Learners (Webinar)
DESCRIPTION:Comic books have a powerful potential to help English language learners (ELLs) become more adept at reading and writing in English\, and more engaged in books and reading in general. This workshop brings together Dr. Bitz and Dr. Leathers\, who have worked together in numerous literacy-based environments\, to present a workshop focused on the process and results of comics created by ELLs. The workshop establishes guidelines and a framework for working with ELLs\, and the presenters introduce skills and strategies for helping youths to plan\, write\, design\, and publish original comic books with a focus on English acquisition. The workshop will provide participants with no-cost\, web-based resources that can help them lead their own comic book clubs with additional supports for English language learners.
URL:https://www.expandedschools.org/event/educator-series-session-3-creating-comics-for-english-language-learners/
LOCATION:NY\, United States
CATEGORIES:DYCD
END:VEVENT
BEGIN:VEVENT
DTSTART;VALUE=DATE:20221117
DTEND;VALUE=DATE:20221118
DTSTAMP:20260420T061743
CREATED:20221014T142117Z
LAST-MODIFIED:20221014T142117Z
UID:10000359-1668643200-1668729599@www.expandedschools.org
SUMMARY:Building STEM Identity and Cultural Responsiveness in STEM
DESCRIPTION:This virtual session is designed to offer tools to help staff understand the importance of building agency in STEM with youth. To prepare youth for future STEM careers\, they need to see themselves in\, and connect to that world. Participants will be equipped with an understanding of STEM Identity and tools to lead youth in developing their own STEM Identities.
URL:https://www.expandedschools.org/event/building-stem-identity-and-cultural-responsiveness-in-stem/
CATEGORIES:DYCD
END:VEVENT
BEGIN:VEVENT
DTSTART;VALUE=DATE:20221122
DTEND;VALUE=DATE:20221123
DTSTAMP:20260420T061743
CREATED:20220930T001537Z
LAST-MODIFIED:20221013T203401Z
UID:10000314-1669075200-1669161599@www.expandedschools.org
SUMMARY:Webinar: Infusing SEL Through Literacy
DESCRIPTION:How can you foster SEL through Literacy? This workshop will teach you how to blend SEL and Literacy for students with various emotional needs. Participants will learn how to develop SEL skills through literacy activities. This workshop is designed for educators who want to be better prepared to support the needs of their students in in-person classes\, remote or hybrid learning environments.
URL:https://www.expandedschools.org/event/infusing-sel-through-literacy/
LOCATION:NY\, United States
CATEGORIES:DYCD
END:VEVENT
BEGIN:VEVENT
DTSTART;VALUE=DATE:20221122
DTEND;VALUE=DATE:20221123
DTSTAMP:20260420T061743
CREATED:20221107T215403Z
LAST-MODIFIED:20221206T171937Z
UID:10000435-1669075200-1669161599@www.expandedschools.org
SUMMARY:MS ExTRA Literacy Educators PD Session 1: Understanding How Strong Characters are Developed Throughout the Novel  
DESCRIPTION:  \nFacilitators: Alex De La Cruz and Tiffany Perry  \nIn this workshop\, we will examine the different characters from the mystery genre and the diverse character traits that make each role vital to the book. In a successful mystery\, the author must create characters that are so vivid and realistic that readers feel they know them as well as they know their own relatives. A mystery novel requires a main character as  the detective or sleuth and a cast of other characters who interact with the detective and help or hinder him or her in solving the crime. CCSS.ELA-LITERACY.RL.6.3 \nEducators will walk away with an understanding of the roles characters play in a suspense novel. They will also be able to explain how the characters’ actions drive their decisions based on the pathways created by the plot built into the author’s narrative.   \n 
URL:https://www.expandedschools.org/event/ms-extra-literacy-educators-pd-session-1-understanding-how-strong-characters-are-developed-throughout-the-novel/
CATEGORIES:LIT C.R.E.W.
END:VEVENT
BEGIN:VEVENT
DTSTART;VALUE=DATE:20221128
DTEND;VALUE=DATE:20221129
DTSTAMP:20260420T061743
CREATED:20221014T141146Z
LAST-MODIFIED:20221014T141255Z
UID:10000349-1669593600-1669679999@www.expandedschools.org
SUMMARY:Computer Science Unplugged
DESCRIPTION:CS: Unplugged is a virtual workshop designed to explore computer science through hands-on activities that do not require computers. This workshop helps prepare computer science educators for times when access to machines is not available or to enforce a computational thinking concept. Participants will learn to facilitate activities while introducing computational concepts and vocabulary relevant for leading lessons.
URL:https://www.expandedschools.org/event/computer-science-unplugged/
CATEGORIES:DYCD
END:VEVENT
BEGIN:VEVENT
DTSTART;VALUE=DATE:20221129
DTEND;VALUE=DATE:20221130
DTSTAMP:20260420T061743
CREATED:20220920T223218Z
LAST-MODIFIED:20221028T180425Z
UID:10000367-1669680000-1669766399@www.expandedschools.org
SUMMARY:Collaborating with Youth in your STEM Program
DESCRIPTION:Wondering how you can share decision-making power with youth in your STEM programming? In this session\, we will explore techniques to support authentic collaborations with young people and strategies that make more space for youth voice and participation. \nThis will be an in-person event held at ExpandED Schools Office: \n11 West 42nd Street\, 3rd Floor\,\nNew York\, NY 10036
URL:https://www.expandedschools.org/event/collaborating-with-youth-in-your-stem-program/
LOCATION:NY\, United States
CATEGORIES:STEM
END:VEVENT
BEGIN:VEVENT
DTSTART;VALUE=DATE:20221130
DTEND;VALUE=DATE:20221201
DTSTAMP:20260420T061743
CREATED:20220930T000806Z
LAST-MODIFIED:20221013T203415Z
UID:10000382-1669766400-1669852799@www.expandedschools.org
SUMMARY:Educator Series - Session 4: Strategies for Building Background for Multilingual Learners (Webinar)
DESCRIPTION:Have your multilingual learners ever looked like they simply had no idea about what you were talking about? Come learn how you can make learning easier for your students. In this webinar\, you will learn concepts of second language acquisition and strategies you can use to help build background for your students. You will receive a toolkit with strategies that you can use to build background whenever introducing new topics for your students. This webinar is designed for educators who serve multilingual learners and want to be better prepared to support their unique learning needs.
URL:https://www.expandedschools.org/event/educator-series-session-4-strategies-for-building-background-for-multilingual-learners/
LOCATION:NY\, United States
CATEGORIES:DYCD
END:VEVENT
END:VCALENDAR