














BEGIN:VCALENDAR
VERSION:2.0
PRODID:-//ExpandED Schools - ECPv6.15.20//NONSGML v1.0//EN
CALSCALE:GREGORIAN
METHOD:PUBLISH
X-WR-CALNAME:ExpandED Schools
X-ORIGINAL-URL:https://www.expandedschools.org
X-WR-CALDESC:Events for ExpandED Schools
REFRESH-INTERVAL;VALUE=DURATION:PT1H
X-Robots-Tag:noindex
X-PUBLISHED-TTL:PT1H
BEGIN:VTIMEZONE
TZID:UTC
BEGIN:STANDARD
TZOFFSETFROM:+0000
TZOFFSETTO:+0000
TZNAME:UTC
DTSTART:20220101T000000
END:STANDARD
END:VTIMEZONE
BEGIN:VTIMEZONE
TZID:America/New_York
BEGIN:DAYLIGHT
TZOFFSETFROM:-0500
TZOFFSETTO:-0400
TZNAME:EDT
DTSTART:20220313T070000
END:DAYLIGHT
BEGIN:STANDARD
TZOFFSETFROM:-0400
TZOFFSETTO:-0500
TZNAME:EST
DTSTART:20221106T060000
END:STANDARD
BEGIN:DAYLIGHT
TZOFFSETFROM:-0500
TZOFFSETTO:-0400
TZNAME:EDT
DTSTART:20230312T070000
END:DAYLIGHT
BEGIN:STANDARD
TZOFFSETFROM:-0400
TZOFFSETTO:-0500
TZNAME:EST
DTSTART:20231105T060000
END:STANDARD
BEGIN:DAYLIGHT
TZOFFSETFROM:-0500
TZOFFSETTO:-0400
TZNAME:EDT
DTSTART:20240310T070000
END:DAYLIGHT
BEGIN:STANDARD
TZOFFSETFROM:-0400
TZOFFSETTO:-0500
TZNAME:EST
DTSTART:20241103T060000
END:STANDARD
END:VTIMEZONE
BEGIN:VEVENT
DTSTART;TZID=UTC:20231023T093000
DTEND;TZID=UTC:20231023T123000
DTSTAMP:20260421T132359
CREATED:20231006T133837Z
LAST-MODIFIED:20231027T171552Z
UID:10000562-1698053400-1698064200@www.expandedschools.org
SUMMARY:MS ExTRA Fall Literacy Institute: October 23-27\, 2023
DESCRIPTION:We are thrilled to host our annual MS ExTRA Fall Literacy Institute for the 2023-2024 school year!!  \nThis week-long institute will allow literacy educators (those leading book clubs) to develop and sharpen their understanding and instruction of the MS ExTRA literacy model; review and build familiarization on book club expectations for the academic year; demo and practice lesson planning to support instruction\, obtain youth-centered practices around classroom/behavior management techniques and opportunities to connect with fellow literacy educators. \nThis training will take place from October 23-27\, 2023 from 9:30 AM-12:30 PM daily and will be conducted remotely. \nThe Zoom link will be available to you through email and on this page after you register. \n*You will only need to register once for this institute and can you the same zoom link to attend the remaining dates of the training.*
URL:https://www.expandedschools.org/event/ms-extra-fall-literacy-institute-2023/
CATEGORIES:LIT C.R.E.W.,Literacy
END:VEVENT
BEGIN:VEVENT
DTSTART;TZID=America/New_York:20231023T100000
DTEND;TZID=America/New_York:20231023T120000
DTSTAMP:20260421T132359
CREATED:20230928T163108Z
LAST-MODIFIED:20231022T021404Z
UID:10000555-1698055200-1698062400@www.expandedschools.org
SUMMARY:Professionalism 101: Correspondence\, Communication\, Time Management
DESCRIPTION:Having strong written and verbal communication skills are required for most occupations. In this training\, participants will learn how to represent themselves through written and oral communication. Additionally\, professional practices and norms will be explored.
URL:https://www.expandedschools.org/event/professionalism-101-correspondence-communication-time-management/
CATEGORIES:Educator Career Development
END:VEVENT
BEGIN:VEVENT
DTSTART;TZID=America/New_York:20231023T153000
DTEND;TZID=America/New_York:20231023T163000
DTSTAMP:20260421T132359
CREATED:20230928T164426Z
LAST-MODIFIED:20231020T191524Z
UID:10000556-1698075000-1698078600@www.expandedschools.org
SUMMARY:Pathways to Teacher Certification and Education Careers
DESCRIPTION:**This session is being postponed. A new date will be posted soon.** \n  \nWorking in the education field requires specific coursework\, assessments\, and certifications. Which credentials do you need to pursue a career in the education field? How can you prepare? This session will introduce aspiring educators to the various certifications required for teaching and other education jobs in New York State.
URL:https://www.expandedschools.org/event/pathways-to-teacher-certification-and-education-careers/
CATEGORIES:Educator Career Development
END:VEVENT
BEGIN:VEVENT
DTSTART;TZID=America/New_York:20231024T120000
DTEND;TZID=America/New_York:20231024T140000
DTSTAMP:20260421T132359
CREATED:20230920T183703Z
LAST-MODIFIED:20231022T020608Z
UID:10000541-1698148800-1698156000@www.expandedschools.org
SUMMARY:Fundamentals of Youth Voice
DESCRIPTION:Learning how to create youth oriented programs and activities that highlight student voice and community leadership. \nThis is a virtual event held on Zoom. The Zoom link will be available to you through email and on this page after you register.
URL:https://www.expandedschools.org/event/fundamentals-of-youth-voice/
CATEGORIES:Social-Emotional Learning
END:VEVENT
BEGIN:VEVENT
DTSTART;TZID=America/New_York:20231024T140000
DTEND;TZID=America/New_York:20231024T150000
DTSTAMP:20260421T132359
CREATED:20230920T164316Z
LAST-MODIFIED:20231023T190024Z
UID:10000536-1698156000-1698159600@www.expandedschools.org
SUMMARY:Exploring Futures PD: ExpandED Exploring Futures Curriculum
DESCRIPTION:Join us for this hour-long Zoom session on how to implement our 5-session\, provider-led curriculum and add you own twists.
URL:https://www.expandedschools.org/event/exploring-futures-pd-expanded-exploring-futures-curriculum/
CATEGORIES:Career-Connected Learning
END:VEVENT
BEGIN:VEVENT
DTSTART;TZID=America/New_York:20231025T110000
DTEND;TZID=America/New_York:20231025T120000
DTSTAMP:20260421T132359
CREATED:20230920T163923Z
LAST-MODIFIED:20231017T155325Z
UID:10000533-1698231600-1698235200@www.expandedschools.org
SUMMARY:Exploring Futures PD: Exposure Events
DESCRIPTION:Join us for an hour-long session on ways to lead career exploration exposure events\, including career panels\, community walks\, and high school panels. \nThis event will be held on zoom.
URL:https://www.expandedschools.org/event/exploring-futures-pd-exposure-events-in-person/
CATEGORIES:Career-Connected Learning
END:VEVENT
BEGIN:VEVENT
DTSTART;TZID=UTC:20231026T100000
DTEND;TZID=UTC:20231026T113000
DTSTAMP:20260421T132359
CREATED:20230911T164526Z
LAST-MODIFIED:20231005T211047Z
UID:10000513-1698314400-1698319800@www.expandedschools.org
SUMMARY:STEM Educators Academy Site Leadership Orientation #3
DESCRIPTION:Join leaders from elementary and middle school afterschool sites to learn about your place in STEM Educators Academy for the 2023-2024 school year!
URL:https://www.expandedschools.org/event/stem-educators-academy-site-leadership-orientation-3/
CATEGORIES:STEM
END:VEVENT
BEGIN:VEVENT
DTSTART;TZID=America/New_York:20231027T110000
DTEND;TZID=America/New_York:20231027T120000
DTSTAMP:20260421T132359
CREATED:20230920T163631Z
LAST-MODIFIED:20231005T210916Z
UID:10000537-1698404400-1698408000@www.expandedschools.org
SUMMARY:Exploring Futures PD: ExpandED Exploring Futures Curriculum (In-Person)
DESCRIPTION:Join us for this hour-long in-person session on how to implement our 5-session\, provider-led curriculum and add you own twists. \n  \nThis will be an in-person event held at ExpandED Schools Office:\n11 West 42nd Street\, 3rd Floor\,\nNew York\, NY 10036
URL:https://www.expandedschools.org/event/exploring-futures-pd-expanded-exploring-futures-curriculum-in-person/
CATEGORIES:Career-Connected Learning
END:VEVENT
END:VCALENDAR