














BEGIN:VCALENDAR
VERSION:2.0
PRODID:-//ExpandED Schools - ECPv6.15.20//NONSGML v1.0//EN
CALSCALE:GREGORIAN
METHOD:PUBLISH
X-ORIGINAL-URL:https://www.expandedschools.org
X-WR-CALDESC:Events for ExpandED Schools
REFRESH-INTERVAL;VALUE=DURATION:PT1H
X-Robots-Tag:noindex
X-PUBLISHED-TTL:PT1H
BEGIN:VTIMEZONE
TZID:America/New_York
BEGIN:DAYLIGHT
TZOFFSETFROM:-0500
TZOFFSETTO:-0400
TZNAME:EDT
DTSTART:20220313T070000
END:DAYLIGHT
BEGIN:STANDARD
TZOFFSETFROM:-0400
TZOFFSETTO:-0500
TZNAME:EST
DTSTART:20221106T060000
END:STANDARD
BEGIN:DAYLIGHT
TZOFFSETFROM:-0500
TZOFFSETTO:-0400
TZNAME:EDT
DTSTART:20230312T070000
END:DAYLIGHT
BEGIN:STANDARD
TZOFFSETFROM:-0400
TZOFFSETTO:-0500
TZNAME:EST
DTSTART:20231105T060000
END:STANDARD
BEGIN:DAYLIGHT
TZOFFSETFROM:-0500
TZOFFSETTO:-0400
TZNAME:EDT
DTSTART:20240310T070000
END:DAYLIGHT
BEGIN:STANDARD
TZOFFSETFROM:-0400
TZOFFSETTO:-0500
TZNAME:EST
DTSTART:20241103T060000
END:STANDARD
END:VTIMEZONE
BEGIN:VEVENT
DTSTART;TZID=America/New_York:20231031T103000
DTEND;TZID=America/New_York:20231031T113000
DTSTAMP:20260421T152132
CREATED:20230920T162509Z
LAST-MODIFIED:20231017T154854Z
UID:10000529-1698748200-1698751800@www.expandedschools.org
SUMMARY:Exploring Futures PD: ExpandED Theme Based Curriculum
DESCRIPTION:In this hour-long PD\, we will learn ways to add career exploration into existing MS afterschool programming. Get ready to play some career exploration games\, reflect on your own career journeys\, and identify ways to connect career exploration activities to common afterschool activities such as sports\, arts\, and STEM. We will dive into our 5-lesson curricula and consider how to adapt this at our own site\, with the goal of supporting students in exploring their interests\, values\, and future career opportunities. Be ready to bring your energy\, ideas\, and questions. \n\n\n\n\n\n\n\n\n\n\n\n\nThis will be a virtual event held on zoom.
URL:https://www.expandedschools.org/event/exploring-futures-pd-expanded-theme-based-curriculum-in-person/
CATEGORIES:Career-Connected Learning
END:VEVENT
BEGIN:VEVENT
DTSTART;TZID=America/New_York:20231101T100000
DTEND;TZID=America/New_York:20231101T123000
DTSTAMP:20260421T152132
CREATED:20230921T073903Z
LAST-MODIFIED:20231030T191502Z
UID:10000549-1698832800-1698841800@www.expandedschools.org
SUMMARY:CORE PD: Fostering Inclusivity: Supporting students who are Neurodiverse in after-school 101 & 102
DESCRIPTION:In this workshop participants will begin to develop a comprehensive understanding of effective strategies and best practices for working with students who are Neurodiverse. We will conduct targeted discussions for line staff (group leaders/activity specialists) and upper management (Directors\, Site Supervisors) in the areas of adapting learning styles\, strengthening activity facilitation\, providing continuous support for staff\, engaging with families\, and more. \nSchool-Age Child Care training regulations satisfied: 3 \nPlease note that active participation during the session is required in order to receive letters of completion. Letters of completion can only be distributed to participants whose identities are verified. \nLocation:  \nRemote. A link to the training will be sent by email. This is a camera-on workshop.
URL:https://www.expandedschools.org/event/core-pd-fostering-inclusivity-supporting-students-who-are-neurodiverse-in-after-school-101-102/
CATEGORIES:Program-support
END:VEVENT
END:VCALENDAR