














BEGIN:VCALENDAR
VERSION:2.0
PRODID:-//ExpandED Schools - ECPv6.15.20//NONSGML v1.0//EN
CALSCALE:GREGORIAN
METHOD:PUBLISH
X-ORIGINAL-URL:https://www.expandedschools.org
X-WR-CALDESC:Events for ExpandED Schools
REFRESH-INTERVAL;VALUE=DURATION:PT1H
X-Robots-Tag:noindex
X-PUBLISHED-TTL:PT1H
BEGIN:VTIMEZONE
TZID:America/New_York
BEGIN:DAYLIGHT
TZOFFSETFROM:-0500
TZOFFSETTO:-0400
TZNAME:EDT
DTSTART:20240310T070000
END:DAYLIGHT
BEGIN:STANDARD
TZOFFSETFROM:-0400
TZOFFSETTO:-0500
TZNAME:EST
DTSTART:20241103T060000
END:STANDARD
BEGIN:DAYLIGHT
TZOFFSETFROM:-0500
TZOFFSETTO:-0400
TZNAME:EDT
DTSTART:20250309T070000
END:DAYLIGHT
BEGIN:STANDARD
TZOFFSETFROM:-0400
TZOFFSETTO:-0500
TZNAME:EST
DTSTART:20251102T060000
END:STANDARD
BEGIN:DAYLIGHT
TZOFFSETFROM:-0500
TZOFFSETTO:-0400
TZNAME:EDT
DTSTART:20260308T070000
END:DAYLIGHT
BEGIN:STANDARD
TZOFFSETFROM:-0400
TZOFFSETTO:-0500
TZNAME:EST
DTSTART:20261101T060000
END:STANDARD
END:VTIMEZONE
BEGIN:VEVENT
DTSTART;TZID=America/New_York:20250107T130000
DTEND;TZID=America/New_York:20250107T140000
DTSTAMP:20260423T060136
CREATED:20241212T174822Z
LAST-MODIFIED:20241212T174822Z
UID:10000826-1736254800-1736258400@www.expandedschools.org
SUMMARY:Tutor-to-Educator Information Session
DESCRIPTION:Join us to learn about ExpandED Schools’ upcoming Tutors-to-Educators Professional Learning Community\, scheduled to launch in January 2025. In this session\, attendees will learn about: \n\nProgram components and rationale\nEligibility and application requirements for tutors and mentors\nCollaboration opportunities for partners\n\n 
URL:https://www.expandedschools.org/event/tutor-to-educator-information-session/
CATEGORIES:Educator Career Development
LOCATION:https://us02web.zoom.us/j/82655190022
END:VEVENT
BEGIN:VEVENT
DTSTART;TZID=America/New_York:20250108T090000
DTEND;TZID=America/New_York:20250108T120000
DTSTAMP:20260423T060136
CREATED:20241203T030908Z
LAST-MODIFIED:20241212T163505Z
UID:10000820-1736326800-1736337600@www.expandedschools.org
SUMMARY:LIT C.R.E.W. PD Series-Repeat to Retain: Mastering Vocabulary through Repetition
DESCRIPTION:Join us for our in-person monthly Literacy Educator Workshop! \nOn Wednesday\, January 8\, 2025\, from 9:00 am-12:00 pm at \n11 W 42nd Street\, 3rd Floor; Manhattan\, NY 10036. \n  \nUnlock the secret to lasting vocabulary mastery with Repeat to Retain! This hands-on\, in-person training equips literacy educators with practical techniques to embed repetition into word usage\, ensuring students build a stronger\, more confident vocabulary. \nThrough interactive exercises\, collaborative discussions\, and fun\, immersive activities\, you’ll discover how to creatively incorporate repetition in ways that feel natural and engaging for learners. Leave with actionable strategies to reinforce word knowledge in your lessons and inspire students to use new words confidently in their reading\, writing\, and speech. \n  \nGet ready to turn repetition into a powerful teaching tool!
URL:https://www.expandedschools.org/event/lit-c-r-e-w-pd-series-repeat-to-retain-mastering-vocabulary-through-repetition/
CATEGORIES:LIT C.R.E.W.,Literacy
END:VEVENT
BEGIN:VEVENT
DTSTART;TZID=America/New_York:20250109T100000
DTEND;TZID=America/New_York:20250109T120000
DTSTAMP:20260423T060136
CREATED:20241219T035238Z
LAST-MODIFIED:20250220T024050Z
UID:10000841-1736416800-1736424000@www.expandedschools.org
SUMMARY:Career Internship Network Working Group
DESCRIPTION:Members will come together to work on problems that affect career-connected learning opportunities. They will share their findings and proposed solutions in the network’s culminating event in June/2025.
URL:https://www.expandedschools.org/event/career-internship-network-working-group/
CATEGORIES:Career Internship Network
END:VEVENT
BEGIN:VEVENT
DTSTART;TZID=America/New_York:20250110T110000
DTEND;TZID=America/New_York:20250110T120000
DTSTAMP:20260423T060136
CREATED:20241015T165928Z
LAST-MODIFIED:20241015T165928Z
UID:10000794-1736506800-1736510400@www.expandedschools.org
SUMMARY:Educator Career Pathways Working Group January Meeting
DESCRIPTION:The Educator Career Development (ECD) Working Group brings together individuals and organizations who are connected to and interested in the tutor-to-educator pipeline. The working group will meet on the second Friday every other month from November 2024 – May 2025. We encourage you to register for each meeting separately. \nA presentation(s) about current tutor-to-educator program(s) is planned for this meeting.
URL:https://www.expandedschools.org/event/educator-career-pathways-working-group-january-meeting/
CATEGORIES:Educator Career Development
LOCATION:https://us02web.zoom.us/j/86543105311
END:VEVENT
BEGIN:VEVENT
DTSTART;TZID=America/New_York:20250111T100000
DTEND;TZID=America/New_York:20250111T140000
DTSTAMP:20260423T060136
CREATED:20241204T012522Z
LAST-MODIFIED:20250109T205457Z
UID:10000821-1736589600-1736604000@www.expandedschools.org
SUMMARY:Facilitating the Engineering Design Process with The New York Hall of Science
DESCRIPTION:Looking to support learners in planning\, building\, and testing their own designs? Join us to explore STEM facilitation techniques and activities focused on the engineering design process! \nThis session will feature TWO STEM Lessons from our curriculum and a chance to tour the New York Hall of Science in Queens!
URL:https://www.expandedschools.org/event/facilitating-the-engineering-design-process-with-the-new-york-hall-of-science-2/
CATEGORIES:STEM
END:VEVENT
END:VCALENDAR